BEGIN:VCALENDAR
VERSION:2.0
PRODID:-//KG Donrather Aggerpiraten e. V. - ECPv6.15.20//NONSGML v1.0//EN
CALSCALE:GREGORIAN
METHOD:PUBLISH
X-ORIGINAL-URL:https://aggerpiraten.de
X-WR-CALDESC:Veranstaltungen für KG Donrather Aggerpiraten e. V.
REFRESH-INTERVAL;VALUE=DURATION:PT1H
X-Robots-Tag:noindex
X-PUBLISHED-TTL:PT1H
BEGIN:VTIMEZONE
TZID:Europe/Berlin
BEGIN:DAYLIGHT
TZOFFSETFROM:+0100
TZOFFSETTO:+0200
TZNAME:CEST
DTSTART:20250330T010000
END:DAYLIGHT
BEGIN:STANDARD
TZOFFSETFROM:+0200
TZOFFSETTO:+0100
TZNAME:CET
DTSTART:20251026T010000
END:STANDARD
BEGIN:DAYLIGHT
TZOFFSETFROM:+0100
TZOFFSETTO:+0200
TZNAME:CEST
DTSTART:20260329T010000
END:DAYLIGHT
BEGIN:STANDARD
TZOFFSETFROM:+0200
TZOFFSETTO:+0100
TZNAME:CET
DTSTART:20261025T010000
END:STANDARD
BEGIN:DAYLIGHT
TZOFFSETFROM:+0100
TZOFFSETTO:+0200
TZNAME:CEST
DTSTART:20270328T010000
END:DAYLIGHT
BEGIN:STANDARD
TZOFFSETFROM:+0200
TZOFFSETTO:+0100
TZNAME:CET
DTSTART:20271031T010000
END:STANDARD
END:VTIMEZONE
BEGIN:VEVENT
DTSTART;TZID=Europe/Berlin:20260116T191100
DTEND;TZID=Europe/Berlin:20260116T235900
DTSTAMP:20260422T140140
CREATED:20251201T083925Z
LAST-MODIFIED:20251201T084118Z
UID:3082-1768590660-1768607940@aggerpiraten.de
SUMMARY:Löschzug Lohmar Prinzenempfang
DESCRIPTION:
URL:https://aggerpiraten.de/event/loeschzug-lohmar-prinzenempfang/
LOCATION:Feuerwehrhaus Lohmar\, Ostheim-vor-der-Rhön-Str. 1\, Lohmar\, 53797\, Germany
END:VEVENT
BEGIN:VEVENT
DTSTART;TZID=Europe/Berlin:20260117T143000
DTEND;TZID=Europe/Berlin:20260117T143000
DTSTAMP:20260422T140140
CREATED:20211019T084552Z
LAST-MODIFIED:20251201T083254Z
UID:1934-1768660200-1768660200@aggerpiraten.de
SUMMARY:Gratulationscour
DESCRIPTION:
URL:https://aggerpiraten.de/event/gratulationscour/
LOCATION:Jabachhalle\, Donrather Dreieck 1\, Lohmar\, 53797\, Deutschland
END:VEVENT
END:VCALENDAR