BEGIN:VCALENDAR
VERSION:2.0
PRODID:-//KG Donrather Aggerpiraten e. V. - ECPv6.15.20//NONSGML v1.0//EN
CALSCALE:GREGORIAN
METHOD:PUBLISH
X-WR-CALNAME:KG Donrather Aggerpiraten e. V.
X-ORIGINAL-URL:https://aggerpiraten.de
X-WR-CALDESC:Veranstaltungen für KG Donrather Aggerpiraten e. V.
REFRESH-INTERVAL;VALUE=DURATION:PT1H
X-Robots-Tag:noindex
X-PUBLISHED-TTL:PT1H
BEGIN:VTIMEZONE
TZID:Europe/Berlin
BEGIN:DAYLIGHT
TZOFFSETFROM:+0100
TZOFFSETTO:+0200
TZNAME:CEST
DTSTART:20240331T010000
END:DAYLIGHT
BEGIN:STANDARD
TZOFFSETFROM:+0200
TZOFFSETTO:+0100
TZNAME:CET
DTSTART:20241027T010000
END:STANDARD
BEGIN:DAYLIGHT
TZOFFSETFROM:+0100
TZOFFSETTO:+0200
TZNAME:CEST
DTSTART:20250330T010000
END:DAYLIGHT
BEGIN:STANDARD
TZOFFSETFROM:+0200
TZOFFSETTO:+0100
TZNAME:CET
DTSTART:20251026T010000
END:STANDARD
BEGIN:DAYLIGHT
TZOFFSETFROM:+0100
TZOFFSETTO:+0200
TZNAME:CEST
DTSTART:20260329T010000
END:DAYLIGHT
BEGIN:STANDARD
TZOFFSETFROM:+0200
TZOFFSETTO:+0100
TZNAME:CET
DTSTART:20261025T010000
END:STANDARD
END:VTIMEZONE
BEGIN:VEVENT
DTSTART;TZID=Europe/Berlin:20250302T140000
DTEND;TZID=Europe/Berlin:20250302T160000
DTSTAMP:20260423T061532
CREATED:20201217T110426Z
LAST-MODIFIED:20250213T160835Z
UID:518-1740924000-1740931200@aggerpiraten.de
SUMMARY:Karnevalsumzug Birk
DESCRIPTION:
URL:https://aggerpiraten.de/event/quarantaene/
END:VEVENT
BEGIN:VEVENT
DTSTART;TZID=Europe/Berlin:20250304T170000
DTEND;TZID=Europe/Berlin:20250304T230000
DTSTAMP:20260423T061532
CREATED:20241017T091304Z
LAST-MODIFIED:20250213T161336Z
UID:2983-1741107600-1741129200@aggerpiraten.de
SUMMARY:Abbau im Saal
DESCRIPTION:
URL:https://aggerpiraten.de/event/abbau-sessionseroeffnung/
LOCATION:Saal Weißes Haus\, Donrather Str. 23\, Lohmar\, 53797
END:VEVENT
BEGIN:VEVENT
DTSTART;TZID=Europe/Berlin:20250306T191500
DTEND;TZID=Europe/Berlin:20250306T200000
DTSTAMP:20260423T061532
CREATED:20240130T075636Z
LAST-MODIFIED:20250305T065231Z
UID:2932-1741288500-1741291200@aggerpiraten.de
SUMMARY:Jahreshauptversammlung Vereinskomitee
DESCRIPTION:
URL:https://aggerpiraten.de/event/mitgliederversammlung-vereinskomitee-2/
LOCATION:Zur Alten Fähre\, Brückenstraße 18\, Lohmar\, 53797
END:VEVENT
END:VCALENDAR