BEGIN:VCALENDAR
VERSION:2.0
PRODID:-//KG Donrather Aggerpiraten e. V. - ECPv6.15.20//NONSGML v1.0//EN
CALSCALE:GREGORIAN
METHOD:PUBLISH
X-ORIGINAL-URL:https://aggerpiraten.de
X-WR-CALDESC:Veranstaltungen für KG Donrather Aggerpiraten e. V.
REFRESH-INTERVAL;VALUE=DURATION:PT1H
X-Robots-Tag:noindex
X-PUBLISHED-TTL:PT1H
BEGIN:VTIMEZONE
TZID:Europe/Berlin
BEGIN:DAYLIGHT
TZOFFSETFROM:+0100
TZOFFSETTO:+0200
TZNAME:CEST
DTSTART:20230326T010000
END:DAYLIGHT
BEGIN:STANDARD
TZOFFSETFROM:+0200
TZOFFSETTO:+0100
TZNAME:CET
DTSTART:20231029T010000
END:STANDARD
BEGIN:DAYLIGHT
TZOFFSETFROM:+0100
TZOFFSETTO:+0200
TZNAME:CEST
DTSTART:20240331T010000
END:DAYLIGHT
BEGIN:STANDARD
TZOFFSETFROM:+0200
TZOFFSETTO:+0100
TZNAME:CET
DTSTART:20241027T010000
END:STANDARD
BEGIN:DAYLIGHT
TZOFFSETFROM:+0100
TZOFFSETTO:+0200
TZNAME:CEST
DTSTART:20250330T010000
END:DAYLIGHT
BEGIN:STANDARD
TZOFFSETFROM:+0200
TZOFFSETTO:+0100
TZNAME:CET
DTSTART:20251026T010000
END:STANDARD
END:VTIMEZONE
BEGIN:VEVENT
DTSTART;TZID=Europe/Berlin:20240208T100000
DTEND;TZID=Europe/Berlin:20240208T235900
DTSTAMP:20260424T043236
CREATED:20240130T074233Z
LAST-MODIFIED:20240130T074233Z
UID:2927-1707386400-1707436740@aggerpiraten.de
SUMMARY:Piratenfrühstück\, danach ab nach Siegburg
DESCRIPTION:Treffen privat\, jeder bringt was mit. Danach mit dem Bus nach Siegburg. Details über die Gruppe
URL:https://aggerpiraten.de/event/piratenfruehstueck-danach-ab-nach-siegburg/
END:VEVENT
BEGIN:VEVENT
DTSTART;TZID=Europe/Berlin:20240210T180000
DTEND;TZID=Europe/Berlin:20240210T235900
DTSTAMP:20260424T043236
CREATED:20240130T075233Z
LAST-MODIFIED:20240210T164447Z
UID:2929-1707588000-1707609540@aggerpiraten.de
SUMMARY:Treffen Aggerpiraten and Friends
DESCRIPTION:
URL:https://aggerpiraten.de/event/veedelszoch-su-stallberg-ansehen/
LOCATION:Saal Weißes Haus\, Donrather Str. 23\, Lohmar\, 53797
ORGANIZER;CN="KG Donrather Aggerpiraten":MAILTO:Vorstand@aggerpiraten.de
END:VEVENT
BEGIN:VEVENT
DTSTART;TZID=Europe/Berlin:20240211T103000
DTEND;TZID=Europe/Berlin:20240211T103000
DTSTAMP:20260424T043236
CREATED:20211019T091813Z
LAST-MODIFIED:20230819T142922Z
UID:1954-1707647400-1707647400@aggerpiraten.de
SUMMARY:Kölsche Meß
DESCRIPTION:danach: Funkenwache im Pfarrheim
URL:https://aggerpiraten.de/event/koelsche-mess/
LOCATION:kath. Kirche Lohmar\, Kirchstraße 22\, Lohmar\, 53797
END:VEVENT
BEGIN:VEVENT
DTSTART;TZID=Europe/Berlin:20240211T140000
DTEND;TZID=Europe/Berlin:20240211T140000
DTSTAMP:20260424T043236
CREATED:20240210T163442Z
LAST-MODIFIED:20240210T163442Z
UID:2488-1707660000-1707660000@aggerpiraten.de
SUMMARY:Aufbau Afterzochparty Aggerpiraten
DESCRIPTION:
URL:https://aggerpiraten.de/event/aufbau-afterzochparty-aggerpiraten/
LOCATION:Saal Weißes Haus\, Donrather Str. 23\, Lohmar\, 53797
ORGANIZER;CN="KG Donrather Aggerpiraten":MAILTO:Vorstand@aggerpiraten.de
END:VEVENT
BEGIN:VEVENT
DTSTART;TZID=Europe/Berlin:20240213T170000
DTEND;TZID=Europe/Berlin:20240213T233000
DTSTAMP:20260424T043236
CREATED:20201217T111715Z
LAST-MODIFIED:20240213T091105Z
UID:526-1707843600-1707867000@aggerpiraten.de
SUMMARY:Abbau Afterzochparty
DESCRIPTION:
URL:https://aggerpiraten.de/event/weiberfastnacht/
LOCATION:Saal Weißes Haus\, Donrather Str. 23\, Lohmar\, 53797
END:VEVENT
BEGIN:VEVENT
DTSTART;TZID=Europe/Berlin:20240213T190000
DTEND;TZID=Europe/Berlin:20240213T235900
DTSTAMP:20260424T043236
CREATED:20240130T073719Z
LAST-MODIFIED:20240213T095549Z
UID:2925-1707850800-1707868740@aggerpiraten.de
SUMMARY:Karnevalsausklang Lohmarer Dreigestirn
DESCRIPTION:Eintritt frei
URL:https://aggerpiraten.de/event/karnevalsausklang/
LOCATION:Feuerwehrhaus Lohmar\, Ostheim-vor-der-Rhön-Str. 1\, Lohmar\, 53797\, Germany
END:VEVENT
END:VCALENDAR