BEGIN:VCALENDAR
VERSION:2.0
PRODID:-//KG Donrather Aggerpiraten e. V. - ECPv6.15.20//NONSGML v1.0//EN
CALSCALE:GREGORIAN
METHOD:PUBLISH
X-WR-CALNAME:KG Donrather Aggerpiraten e. V.
X-ORIGINAL-URL:https://aggerpiraten.de
X-WR-CALDESC:Veranstaltungen für KG Donrather Aggerpiraten e. V.
REFRESH-INTERVAL;VALUE=DURATION:PT1H
X-Robots-Tag:noindex
X-PUBLISHED-TTL:PT1H
BEGIN:VTIMEZONE
TZID:Europe/Berlin
BEGIN:DAYLIGHT
TZOFFSETFROM:+0100
TZOFFSETTO:+0200
TZNAME:CEST
DTSTART:20260329T010000
END:DAYLIGHT
BEGIN:STANDARD
TZOFFSETFROM:+0200
TZOFFSETTO:+0100
TZNAME:CET
DTSTART:20261025T010000
END:STANDARD
BEGIN:DAYLIGHT
TZOFFSETFROM:+0100
TZOFFSETTO:+0200
TZNAME:CEST
DTSTART:20270328T010000
END:DAYLIGHT
BEGIN:STANDARD
TZOFFSETFROM:+0200
TZOFFSETTO:+0100
TZNAME:CET
DTSTART:20271031T010000
END:STANDARD
BEGIN:DAYLIGHT
TZOFFSETFROM:+0100
TZOFFSETTO:+0200
TZNAME:CEST
DTSTART:20280326T010000
END:DAYLIGHT
BEGIN:STANDARD
TZOFFSETFROM:+0200
TZOFFSETTO:+0100
TZNAME:CET
DTSTART:20281029T010000
END:STANDARD
END:VTIMEZONE
BEGIN:VEVENT
DTSTART;TZID=Europe/Berlin:20270204T110000
DTEND;TZID=Europe/Berlin:20270204T235900
DTSTAMP:20260423T004942
CREATED:20221215T143320Z
LAST-MODIFIED:20260329T091119Z
UID:2613-1801738800-1801785540@aggerpiraten.de
SUMMARY:Weiberfastnacht
DESCRIPTION:
URL:https://aggerpiraten.de/event/weiberfastnacht-donrath/
LOCATION:Siegburg Kreishaus
END:VEVENT
END:VCALENDAR