BEGIN:VCALENDAR
VERSION:2.0
PRODID:-//KG Donrather Aggerpiraten e. V. - ECPv6.15.20//NONSGML v1.0//EN
CALSCALE:GREGORIAN
METHOD:PUBLISH
X-ORIGINAL-URL:https://aggerpiraten.de
X-WR-CALDESC:Veranstaltungen für KG Donrather Aggerpiraten e. V.
REFRESH-INTERVAL;VALUE=DURATION:PT1H
X-Robots-Tag:noindex
X-PUBLISHED-TTL:PT1H
BEGIN:VTIMEZONE
TZID:Europe/Berlin
BEGIN:DAYLIGHT
TZOFFSETFROM:+0100
TZOFFSETTO:+0200
TZNAME:CEST
DTSTART:20250330T010000
END:DAYLIGHT
BEGIN:STANDARD
TZOFFSETFROM:+0200
TZOFFSETTO:+0100
TZNAME:CET
DTSTART:20251026T010000
END:STANDARD
BEGIN:DAYLIGHT
TZOFFSETFROM:+0100
TZOFFSETTO:+0200
TZNAME:CEST
DTSTART:20260329T010000
END:DAYLIGHT
BEGIN:STANDARD
TZOFFSETFROM:+0200
TZOFFSETTO:+0100
TZNAME:CET
DTSTART:20261025T010000
END:STANDARD
BEGIN:DAYLIGHT
TZOFFSETFROM:+0100
TZOFFSETTO:+0200
TZNAME:CEST
DTSTART:20270328T010000
END:DAYLIGHT
BEGIN:STANDARD
TZOFFSETFROM:+0200
TZOFFSETTO:+0100
TZNAME:CET
DTSTART:20271031T010000
END:STANDARD
END:VTIMEZONE
BEGIN:VEVENT
DTSTART;TZID=Europe/Berlin:20261128T180000
DTEND;TZID=Europe/Berlin:20261128T235900
DTSTAMP:20260422T203027
CREATED:20220718T082915Z
LAST-MODIFIED:20260328T114955Z
UID:2483-1795888800-1795910340@aggerpiraten.de
SUMMARY:Weihnachtskegeln
DESCRIPTION:
URL:https://aggerpiraten.de/event/weihnachtskegeln/
LOCATION:Jägerhof\, Lohmar\, Hauptstraße 35a\, Lohmar\, 53797\, Germany
END:VEVENT
END:VCALENDAR